BEGIN:VCALENDAR
VERSION:2.0
PRODID:-//hacksw/handcal//NONSGML v1.0//EN
BEGIN:VEVENT
UID:19004
DTSTART;VALUE=DATE:20250207
URL;VALUE=URI:ohschonhell.at/?page_id=42043
SUMMARY:Rayvolution Rampage
LOCATION:Der Ponyhof
END:VEVENT
END:VCALENDAR


