BEGIN:VCALENDAR
VERSION:2.0
PRODID:-//hacksw/handcal//NONSGML v1.0//EN
BEGIN:VEVENT
UID:1902
DTSTART;VALUE=DATE:20140819
URL;VALUE=URI:ohschonhell.at/?page_id=4532
SUMMARY:D E E N S T A G  im VOGA - das Festerl für gewisse Leute
LOCATION:VOLKSGARTEN
END:VEVENT
END:VCALENDAR


