BEGIN:VCALENDAR
VERSION:2.0
PRODID:-//hacksw/handcal//NONSGML v1.0//EN
BEGIN:VEVENT
UID:19020
DTSTART;VALUE=DATE:20250124
URL;VALUE=URI:ohschonhell.at/?page_id=42075
SUMMARY:Airod pres. by CHROM:E x BASEMNT
LOCATION:Praterdome
END:VEVENT
END:VCALENDAR


