BEGIN:VCALENDAR
VERSION:2.0
PRODID:-//hacksw/handcal//NONSGML v1.0//EN
BEGIN:VEVENT
UID:19025
DTSTART;VALUE=DATE:20250131
URL;VALUE=URI:ohschonhell.at/?page_id=42085
SUMMARY:SCHLACHTHAUS w/ Parallx
LOCATION:Jolly Roger Club
END:VEVENT
END:VCALENDAR


