BEGIN:VCALENDAR
VERSION:2.0
PRODID:-//hacksw/handcal//NONSGML v1.0//EN
BEGIN:VEVENT
UID:19032
DTSTART;VALUE=DATE:20250215
URL;VALUE=URI:ohschonhell.at/?page_id=42099
SUMMARY:Fede Fröstl B2B Noe Bortolussi
LOCATION:Kramladen
END:VEVENT
END:VCALENDAR


