BEGIN:VCALENDAR
VERSION:2.0
PRODID:-//hacksw/handcal//NONSGML v1.0//EN
BEGIN:VEVENT
UID:19049
DTSTART;VALUE=DATE:20250124
URL;VALUE=URI:ohschonhell.at/?page_id=42134
SUMMARY:PIZZA PARTY PEOPLE 2
LOCATION:Enzo
END:VEVENT
END:VCALENDAR


