BEGIN:VCALENDAR
VERSION:2.0
PRODID:-//hacksw/handcal//NONSGML v1.0//EN
BEGIN:VEVENT
UID:1905
DTSTART;VALUE=DATE:20140920
URL;VALUE=URI:ohschonhell.at/?page_id=4535
SUMMARY:BOINK! meets WOT pres.: FRANKYEFFE (Rome-ITA)@ Camera Club\, Wien
LOCATION:CAMERA CLUB
END:VEVENT
END:VCALENDAR


