BEGIN:VCALENDAR
VERSION:2.0
PRODID:-//hacksw/handcal//NONSGML v1.0//EN
BEGIN:VEVENT
UID:19052
DTSTART;VALUE=DATE:20250207
URL;VALUE=URI:ohschonhell.at/?page_id=42140
SUMMARY:TECHNOLOT x Platonic Records: LOTs of Bass
LOCATION:Lot
END:VEVENT
END:VCALENDAR


