BEGIN:VCALENDAR
VERSION:2.0
PRODID:-//hacksw/handcal//NONSGML v1.0//EN
BEGIN:VEVENT
UID:19089
DTSTART;VALUE=DATE:20250213
URL;VALUE=URI:ohschonhell.at/?page_id=42215
SUMMARY:Merkwürdig
LOCATION:SASS
END:VEVENT
END:VCALENDAR


