BEGIN:VCALENDAR
VERSION:2.0
PRODID:-//hacksw/handcal//NONSGML v1.0//EN
BEGIN:VEVENT
UID:19107
DTSTART;VALUE=DATE:20250301
URL;VALUE=URI:ohschonhell.at/?page_id=42252
SUMMARY:Techno.Kult x Ponyhof
LOCATION:Der Ponyhof
END:VEVENT
END:VCALENDAR


