BEGIN:VCALENDAR
VERSION:2.0
PRODID:-//hacksw/handcal//NONSGML v1.0//EN
BEGIN:VEVENT
UID:1912
DTSTART;VALUE=DATE:20140821
URL;VALUE=URI:ohschonhell.at/?page_id=4543
SUMMARY:DONNERSTAG NACHT / YMMD
LOCATION:SASS
END:VEVENT
END:VCALENDAR


