BEGIN:VCALENDAR
VERSION:2.0
PRODID:-//hacksw/handcal//NONSGML v1.0//EN
BEGIN:VEVENT
UID:19133
DTSTART;VALUE=DATE:20250214
URL;VALUE=URI:ohschonhell.at/?page_id=42305
SUMMARY:Liebe ist kein Ponyhof!
LOCATION:Der Ponyhof
END:VEVENT
END:VCALENDAR


