BEGIN:VCALENDAR
VERSION:2.0
PRODID:-//hacksw/handcal//NONSGML v1.0//EN
BEGIN:VEVENT
UID:19135
DTSTART;VALUE=DATE:20250220
URL;VALUE=URI:ohschonhell.at/?page_id=42309
SUMMARY:deep cut - hypnotic &amp\; deep techno w/ Ridgie
LOCATION:Kramladen
END:VEVENT
END:VCALENDAR


