BEGIN:VCALENDAR
VERSION:2.0
PRODID:-//hacksw/handcal//NONSGML v1.0//EN
BEGIN:VEVENT
UID:19159
DTSTART;VALUE=DATE:20250221
URL;VALUE=URI:ohschonhell.at/?page_id=42360
SUMMARY:LÄRM
LOCATION:Der Ponyhof
END:VEVENT
END:VCALENDAR


