BEGIN:VCALENDAR
VERSION:2.0
PRODID:-//hacksw/handcal//NONSGML v1.0//EN
BEGIN:VEVENT
UID:19182
DTSTART;VALUE=DATE:20250425
URL;VALUE=URI:ohschonhell.at/?page_id=42407
SUMMARY:Elli aka CATS.R.qL B-Day Bash
LOCATION:Der Ponyhof
END:VEVENT
END:VCALENDAR


