BEGIN:VCALENDAR
VERSION:2.0
PRODID:-//hacksw/handcal//NONSGML v1.0//EN
BEGIN:VEVENT
UID:19184
DTSTART;VALUE=DATE:20250228
URL;VALUE=URI:ohschonhell.at/?page_id=42411
SUMMARY:Ciao Gilberto
LOCATION:Der Ponyhof
END:VEVENT
END:VCALENDAR


