BEGIN:VCALENDAR
VERSION:2.0
PRODID:-//hacksw/handcal//NONSGML v1.0//EN
BEGIN:VEVENT
UID:19219
DTSTART;VALUE=DATE:20250307
URL;VALUE=URI:ohschonhell.at/?page_id=42481
SUMMARY:Xperiment Nights
LOCATION:Kramladen
END:VEVENT
END:VCALENDAR


