BEGIN:VCALENDAR
VERSION:2.0
PRODID:-//hacksw/handcal//NONSGML v1.0//EN
BEGIN:VEVENT
UID:19228
DTSTART;VALUE=DATE:20250314
URL;VALUE=URI:ohschonhell.at/?page_id=42500
SUMMARY:Abyss Rave with NUSHA - Techno x Hardtechno on 2 Floors
LOCATION:Jolly Roger Club
END:VEVENT
END:VCALENDAR


