BEGIN:VCALENDAR
VERSION:2.0
PRODID:-//hacksw/handcal//NONSGML v1.0//EN
BEGIN:VEVENT
UID:19241
DTSTART;VALUE=DATE:20250314
URL;VALUE=URI:ohschonhell.at/?page_id=42526
SUMMARY:Sub Focus pres by. CINEMATIC - Prater Dome
LOCATION:Praterdome
END:VEVENT
END:VCALENDAR


