BEGIN:VCALENDAR
VERSION:2.0
PRODID:-//hacksw/handcal//NONSGML v1.0//EN
BEGIN:VEVENT
UID:19242
DTSTART;VALUE=DATE:20250314
URL;VALUE=URI:ohschonhell.at/?page_id=42528
SUMMARY:TASTELESS
LOCATION:Enzo
END:VEVENT
END:VCALENDAR


