BEGIN:VCALENDAR
VERSION:2.0
PRODID:-//hacksw/handcal//NONSGML v1.0//EN
BEGIN:VEVENT
UID:19245
DTSTART;VALUE=DATE:20250314
URL;VALUE=URI:ohschonhell.at/?page_id=42534
SUMMARY:Mitmischen by Wiener Mischung with Katerfrühstück
LOCATION:Kramladen
END:VEVENT
END:VCALENDAR


