BEGIN:VCALENDAR
VERSION:2.0
PRODID:-//hacksw/handcal//NONSGML v1.0//EN
BEGIN:VEVENT
UID:19258
DTSTART;VALUE=DATE:20250328
URL;VALUE=URI:ohschonhell.at/?page_id=42561
SUMMARY:club fatale w. vera
LOCATION:SASS
END:VEVENT
END:VCALENDAR


