BEGIN:VCALENDAR
VERSION:2.0
PRODID:-//hacksw/handcal//NONSGML v1.0//EN
BEGIN:VEVENT
UID:19263
DTSTART;VALUE=DATE:20250329
URL;VALUE=URI:ohschonhell.at/?page_id=42571
SUMMARY:All Around
LOCATION:SASS
END:VEVENT
END:VCALENDAR


