BEGIN:VCALENDAR
VERSION:2.0
PRODID:-//hacksw/handcal//NONSGML v1.0//EN
BEGIN:VEVENT
UID:19264
DTSTART;VALUE=DATE:20250404
URL;VALUE=URI:ohschonhell.at/?page_id=42573
SUMMARY:BASSIC INSTINCT pres. DKAY (METALHEADZ/SOUL:R) @1BM - 1 YEAR ANNIVERSARY
LOCATION:EINBAUMÖBEL - 1bm
END:VEVENT
END:VCALENDAR


