BEGIN:VCALENDAR
VERSION:2.0
PRODID:-//hacksw/handcal//NONSGML v1.0//EN
BEGIN:VEVENT
UID:1929
DTSTART;VALUE=DATE:20140822
URL;VALUE=URI:ohschonhell.at/?page_id=4567
SUMMARY:Zweikanalton  ⁫ ⁫
LOCATION:ELEKTRO GÖNNER
END:VEVENT
END:VCALENDAR


