BEGIN:VCALENDAR
VERSION:2.0
PRODID:-//hacksw/handcal//NONSGML v1.0//EN
BEGIN:VEVENT
UID:19292
DTSTART;VALUE=DATE:20250322
URL;VALUE=URI:ohschonhell.at/?page_id=42629
SUMMARY:PERSPECTIVE VIBE CHEMISTRY [UK]
LOCATION:Jolly Roger Club
END:VEVENT
END:VCALENDAR


