BEGIN:VCALENDAR
VERSION:2.0
PRODID:-//hacksw/handcal//NONSGML v1.0//EN
BEGIN:VEVENT
UID:19307
DTSTART;VALUE=DATE:20250405
URL;VALUE=URI:ohschonhell.at/?page_id=42660
SUMMARY:TECHNOLOT x Shenron x Alwin Soundsystem
LOCATION:Lot
END:VEVENT
END:VCALENDAR


