BEGIN:VCALENDAR
VERSION:2.0
PRODID:-//hacksw/handcal//NONSGML v1.0//EN
BEGIN:VEVENT
UID:19308
DTSTART;VALUE=DATE:20250405
URL;VALUE=URI:ohschonhell.at/?page_id=42662
SUMMARY:Geschöpfe der Nacht: Bat Rave
LOCATION:Halle EG im MQ
END:VEVENT
END:VCALENDAR


