BEGIN:VCALENDAR
VERSION:2.0
PRODID:-//hacksw/handcal//NONSGML v1.0//EN
BEGIN:VEVENT
UID:19328
DTSTART;VALUE=DATE:20250411
URL;VALUE=URI:ohschonhell.at/?page_id=42702
SUMMARY:Superstate w/ Denis Polyakov
LOCATION:SASS
END:VEVENT
END:VCALENDAR


