BEGIN:VCALENDAR
VERSION:2.0
PRODID:-//hacksw/handcal//NONSGML v1.0//EN
BEGIN:VEVENT
UID:19341
DTSTART;VALUE=DATE:20250329
URL;VALUE=URI:ohschonhell.at/?page_id=42728
SUMMARY:SUBMERGED on 2 Floors [DNB x Reggae Dub]
LOCATION:Jolly Roger Club
END:VEVENT
END:VCALENDAR


