BEGIN:VCALENDAR
VERSION:2.0
PRODID:-//hacksw/handcal//NONSGML v1.0//EN
BEGIN:VEVENT
UID:19351
DTSTART;VALUE=DATE:20250426
URL;VALUE=URI:ohschonhell.at/?page_id=42749
SUMMARY:Trance 4 Trainz
LOCATION:Der Ponyhof
END:VEVENT
END:VCALENDAR


