BEGIN:VCALENDAR
VERSION:2.0
PRODID:-//hacksw/handcal//NONSGML v1.0//EN
BEGIN:VEVENT
UID:19368
DTSTART;VALUE=DATE:20250430
URL;VALUE=URI:ohschonhell.at/?page_id=42783
SUMMARY:Redivider
LOCATION:SASS
END:VEVENT
END:VCALENDAR


