BEGIN:VCALENDAR
VERSION:2.0
PRODID:-//hacksw/handcal//NONSGML v1.0//EN
BEGIN:VEVENT
UID:19372
DTSTART;VALUE=DATE:20250404
URL;VALUE=URI:ohschonhell.at/?page_id=42791
SUMMARY:Nautilus Tekno x HESED [IT] + CRONIK\, ROTOR & SINGULAR SOUND CREW
LOCATION:Jolly Roger Club
END:VEVENT
END:VCALENDAR


