BEGIN:VCALENDAR
VERSION:2.0
PRODID:-//hacksw/handcal//NONSGML v1.0//EN
BEGIN:VEVENT
UID:1938
DTSTART;VALUE=DATE:20140824
URL;VALUE=URI:ohschonhell.at/?page_id=4579
SUMMARY:MORGENGYMNASTIK x SASS MUSIC CLUB
LOCATION:SASS
END:VEVENT
END:VCALENDAR


