BEGIN:VCALENDAR
VERSION:2.0
PRODID:-//hacksw/handcal//NONSGML v1.0//EN
BEGIN:VEVENT
UID:19381
DTSTART;VALUE=DATE:20250411
URL;VALUE=URI:ohschonhell.at/?page_id=42809
SUMMARY:deep cut w/ Dcascallana &amp\; CPR0 - Hypnotic &amp\; Deep Techno
LOCATION:Kramladen
END:VEVENT
END:VCALENDAR


