BEGIN:VCALENDAR
VERSION:2.0
PRODID:-//hacksw/handcal//NONSGML v1.0//EN
BEGIN:VEVENT
UID:19387
DTSTART;VALUE=DATE:20250419
URL;VALUE=URI:ohschonhell.at/?page_id=42821
SUMMARY:SUGAR RUSH VOL. V
LOCATION:SASS
END:VEVENT
END:VCALENDAR


