BEGIN:VCALENDAR
VERSION:2.0
PRODID:-//hacksw/handcal//NONSGML v1.0//EN
BEGIN:VEVENT
UID:19389
DTSTART;VALUE=DATE:20250503
URL;VALUE=URI:ohschonhell.at/?page_id=42825
SUMMARY:LOVE AT FIRST SIGHT - FEMALE PLEASURE
LOCATION:Kramladen
END:VEVENT
END:VCALENDAR


