BEGIN:VCALENDAR
VERSION:2.0
PRODID:-//hacksw/handcal//NONSGML v1.0//EN
BEGIN:VEVENT
UID:19412
DTSTART;VALUE=DATE:20250411
URL;VALUE=URI:ohschonhell.at/?page_id=42871
SUMMARY:Function Blue Launch Event
LOCATION:OPERA CLUB
END:VEVENT
END:VCALENDAR


