BEGIN:VCALENDAR
VERSION:2.0
PRODID:-//hacksw/handcal//NONSGML v1.0//EN
BEGIN:VEVENT
UID:19415
DTSTART;VALUE=DATE:20250412
URL;VALUE=URI:ohschonhell.at/?page_id=42877
SUMMARY:Paradise Spring Gathering - Official Afterparty at Club Ponyhof
LOCATION:Der Ponyhof
END:VEVENT
END:VCALENDAR


