BEGIN:VCALENDAR
VERSION:2.0
PRODID:-//hacksw/handcal//NONSGML v1.0//EN
BEGIN:VEVENT
UID:19417
DTSTART;VALUE=DATE:20250413
URL;VALUE=URI:ohschonhell.at/?page_id=42881
SUMMARY:MELTING MINDS XL - Official Afterparty at Club Ponyhof
LOCATION:Der Ponyhof
END:VEVENT
END:VCALENDAR


