BEGIN:VCALENDAR
VERSION:2.0
PRODID:-//hacksw/handcal//NONSGML v1.0//EN
BEGIN:VEVENT
UID:19420
DTSTART;VALUE=DATE:20250410
URL;VALUE=URI:ohschonhell.at/?page_id=42887
SUMMARY:Tekkscalation
LOCATION:Der Ponyhof
END:VEVENT
END:VCALENDAR


