BEGIN:VCALENDAR
VERSION:2.0
PRODID:-//hacksw/handcal//NONSGML v1.0//EN
BEGIN:VEVENT
UID:19429
DTSTART;VALUE=DATE:20250417
URL;VALUE=URI:ohschonhell.at/?page_id=42906
SUMMARY:OUTER CIRCLE
LOCATION:Der Ponyhof
END:VEVENT
END:VCALENDAR


