BEGIN:VCALENDAR
VERSION:2.0
PRODID:-//hacksw/handcal//NONSGML v1.0//EN
BEGIN:VEVENT
UID:19433
DTSTART;VALUE=DATE:20250430
URL;VALUE=URI:ohschonhell.at/?page_id=42914
SUMMARY:KAISER SCHRANZ JOSEF
LOCATION:REPLUGGED
END:VEVENT
END:VCALENDAR


