BEGIN:VCALENDAR
VERSION:2.0
PRODID:-//hacksw/handcal//NONSGML v1.0//EN
BEGIN:VEVENT
UID:19451
DTSTART;VALUE=DATE:20250420
URL;VALUE=URI:ohschonhell.at/?page_id=42950
SUMMARY:Apartment Acht Open Air
LOCATION:PORTO POLLO
END:VEVENT
END:VCALENDAR


