BEGIN:VCALENDAR
VERSION:2.0
PRODID:-//hacksw/handcal//NONSGML v1.0//EN
BEGIN:VEVENT
UID:19501
DTSTART;VALUE=DATE:20250502
URL;VALUE=URI:ohschonhell.at/?page_id=43051
SUMMARY:Oxygene x Just Kidding
LOCATION:SASS
END:VEVENT
END:VCALENDAR


