BEGIN:VCALENDAR
VERSION:2.0
PRODID:-//hacksw/handcal//NONSGML v1.0//EN
BEGIN:VEVENT
UID:19511
DTSTART;VALUE=DATE:20250515
URL;VALUE=URI:ohschonhell.at/?page_id=43071
SUMMARY:Groove Revival invites MONILE
LOCATION:SASS
END:VEVENT
END:VCALENDAR


