BEGIN:VCALENDAR
VERSION:2.0
PRODID:-//hacksw/handcal//NONSGML v1.0//EN
BEGIN:VEVENT
UID:19528
DTSTART;VALUE=DATE:20250510
URL;VALUE=URI:ohschonhell.at/?page_id=43105
SUMMARY:Rhythm Science
LOCATION:SASS
END:VEVENT
END:VCALENDAR


