BEGIN:VCALENDAR
VERSION:2.0
PRODID:-//hacksw/handcal//NONSGML v1.0//EN
BEGIN:VEVENT
UID:19534
DTSTART;VALUE=DATE:20250523
URL;VALUE=URI:ohschonhell.at/?page_id=43117
SUMMARY:cafe & club fatale
LOCATION:SASS
END:VEVENT
END:VCALENDAR


