BEGIN:VCALENDAR
VERSION:2.0
PRODID:-//hacksw/handcal//NONSGML v1.0//EN
BEGIN:VEVENT
UID:19535
DTSTART;VALUE=DATE:20250524
URL;VALUE=URI:ohschonhell.at/?page_id=43119
SUMMARY:FELD Festival PreParty
LOCATION:SASS
END:VEVENT
END:VCALENDAR


