BEGIN:VCALENDAR
VERSION:2.0
PRODID:-//hacksw/handcal//NONSGML v1.0//EN
BEGIN:VEVENT
UID:19543
DTSTART;VALUE=DATE:20250507
URL;VALUE=URI:ohschonhell.at/?page_id=43136
SUMMARY:Speak Easy Island
LOCATION:SUMMER STATION
END:VEVENT
END:VCALENDAR


